BEGIN:VCALENDAR
VERSION:2.0
PRODID:-//Kabarett Stachelbär - ECPv5.13.0//NONSGML v1.0//EN
CALSCALE:GREGORIAN
METHOD:PUBLISH
X-WR-CALNAME:Kabarett Stachelbär
X-ORIGINAL-URL:https://kabarett-stachelbaer.de
X-WR-CALDESC:Veranstaltungen für Kabarett Stachelbär
BEGIN:VTIMEZONE
TZID:Europe/Paris
BEGIN:DAYLIGHT
TZOFFSETFROM:+0100
TZOFFSETTO:+0200
TZNAME:CEST
DTSTART:20240331T010000
END:DAYLIGHT
BEGIN:STANDARD
TZOFFSETFROM:+0200
TZOFFSETTO:+0100
TZNAME:CET
DTSTART:20241027T010000
END:STANDARD
END:VTIMEZONE
BEGIN:VEVENT
DTSTART;TZID=Europe/Paris:20240323T200000
DTEND;TZID=Europe/Paris:20240323T220000
DTSTAMP:20260419T140134
CREATED:20240306T202756Z
LAST-MODIFIED:20240306T203058Z
UID:1524-1711224000-1711231200@kabarett-stachelbaer.de
SUMMARY:Mir\, Ihr und Bier 2024 - Intakt Zusatztermin
DESCRIPTION:Starkbierprogramm „Mir\, Ihr und Bier 2024“. \nStarkbierabend des Kabarett Stachelbär im Intakt. \nEinlass ab 19.00 Uhr \nKarten gibt es hier!
URL:https://kabarett-stachelbaer.de/index.php/event/mir-ihr-und-bier-2024-intakt-zusatztermin/
LOCATION:Intakt Musikinstitut\, Raiffeisenstraße 33\, Pfaffenhofen a. d. Ilm\, 85276\, Deutschland
END:VEVENT
END:VCALENDAR