BEGIN:VCALENDAR
VERSION:2.0
PRODID:-//Kabarett Stachelbär - ECPv5.13.0//NONSGML v1.0//EN
CALSCALE:GREGORIAN
METHOD:PUBLISH
X-WR-CALNAME:Kabarett Stachelbär
X-ORIGINAL-URL:https://kabarett-stachelbaer.de
X-WR-CALDESC:Veranstaltungen für Kabarett Stachelbär
BEGIN:VTIMEZONE
TZID:Europe/Paris
BEGIN:DAYLIGHT
TZOFFSETFROM:+0100
TZOFFSETTO:+0200
TZNAME:CEST
DTSTART:20230326T010000
END:DAYLIGHT
BEGIN:STANDARD
TZOFFSETFROM:+0200
TZOFFSETTO:+0100
TZNAME:CET
DTSTART:20231029T010000
END:STANDARD
END:VTIMEZONE
BEGIN:VEVENT
DTSTART;TZID=Europe/Paris:20230301T131500
DTEND;TZID=Europe/Paris:20230301T151500
DTSTAMP:20260420T100639
CREATED:20230217T153432Z
LAST-MODIFIED:20230217T153432Z
UID:1437-1677676500-1677683700@kabarett-stachelbaer.de
SUMMARY:„Blick zurück nach vorn“ in der FOSBOS Scheyern (geschlossene Veranstaltung)
DESCRIPTION:Das Kabarett Stachelbär\, Paten der AG „Schule ohne Rassismus / Schule mit Courage“ tritt für die 12. und 13. Klassen der FOSBOS Scheyern im Wittelsbacher Saal auf.
URL:https://kabarett-stachelbaer.de/index.php/event/blick-zurueck-nach-vorn-in-der-fosbos-scheyern-geschlossene-veranstaltung/
LOCATION:Berufliche Oberschule Scheyern
END:VEVENT
END:VCALENDAR